BEGIN:VCALENDAR
VERSION:2.0
PRODID:DPCALENDAR
CALSCALE:GREGORIAN
BEGIN:VTIMEZONE
TZID:Europe/Zurich
BEGIN:STANDARD
DTSTART:20251026T010000
TZOFFSETFROM:+0200
TZOFFSETTO:+0100
TZNAME:CET
END:STANDARD
BEGIN:STANDARD
DTSTART:20261025T010000
TZOFFSETFROM:+0200
TZOFFSETTO:+0100
TZNAME:CET
END:STANDARD
BEGIN:DAYLIGHT
DTSTART:20260329T010000
TZOFFSETFROM:+0100
TZOFFSETTO:+0200
TZNAME:CEST
END:DAYLIGHT
END:VTIMEZONE
X-WR-TIMEZONE:Europe/Zurich
BEGIN:VEVENT
DTSTART;TZID=Europe/Zurich:20250329T090000
DTEND;TZID=Europe/Zurich:20250329T110000
UID:E8DA87D0-1D6D-4806-85A3-A4C7F7CC2FB0
SUMMARY:25/50m Standreinigung
DTSTAMP:20190316T180153Z
DESCRIPTION:
X-ALT-DESC;FMTTYPE=text/html:
LAST-MODIFIED:20250319T175027Z
X-ACCESS:1
X-HITS:63
X-URL:
X-COLOR:0d00ff
X-SHOW-END-TIME:1
END:VEVENT
BEGIN:VEVENT
DTSTART;TZID=Europe/Zurich:20250402T180000
DTEND;TZID=Europe/Zurich:20250402T200000
UID:9B18026E-AD6E-46D1-BE12-EEBF42C0DCD0
SUMMARY:25/50m Training
DTSTAMP:20190316T180153Z
DESCRIPTION:
X-ALT-DESC;FMTTYPE=text/html:
LAST-MODIFIED:20250319T175047Z
X-ACCESS:1
X-HITS:33
X-URL:
X-COLOR:0d00ff
X-SHOW-END-TIME:1
END:VEVENT
BEGIN:VEVENT
DTSTART;TZID=Europe/Zurich:20250409T180000
DTEND;TZID=Europe/Zurich:20250409T200000
UID:69EA0263-A337-4292-B056-8D9EE120AADD
SUMMARY:25/50m Eröffnung
DTSTAMP:20190316T180153Z
DESCRIPTION:
X-ALT-DESC;FMTTYPE=text/html:
LAST-MODIFIED:20250319T175329Z
X-ACCESS:1
X-HITS:30
X-URL:
X-COLOR:0d00ff
X-SHOW-END-TIME:1
END:VEVENT
BEGIN:VEVENT
DTSTART;TZID=Europe/Zurich:20250416T180000
DTEND;TZID=Europe/Zurich:20250416T200000
UID:0E8475F0-7155-44FC-B58D-FBCEF33975CE
SUMMARY:25/50m Eröffnung
DTSTAMP:20190316T180153Z
DESCRIPTION:
X-ALT-DESC;FMTTYPE=text/html:
LAST-MODIFIED:20250319T175338Z
X-ACCESS:1
X-HITS:46
X-URL:
X-COLOR:0d00ff
X-SHOW-END-TIME:1
END:VEVENT
BEGIN:VEVENT
DTSTART;TZID=Europe/Zurich:20250423T180000
DTEND;TZID=Europe/Zurich:20250423T200000
UID:4F634A15-9BDF-443A-9224-7C44CBAD0AEF
SUMMARY:25/50m Kantonalstich
DTSTAMP:20190316T180153Z
DESCRIPTION:
X-ALT-DESC;FMTTYPE=text/html:
LAST-MODIFIED:20250319T175406Z
X-ACCESS:1
X-HITS:82
X-URL:
X-COLOR:0d00ff
X-SHOW-END-TIME:1
END:VEVENT
BEGIN:VEVENT
DTSTART;TZID=Europe/Zurich:20250430T180000
DTEND;TZID=Europe/Zurich:20250430T200000
UID:839C896C-D37F-4074-B95E-5A8586E37A56
SUMMARY:25/50m Training
DTSTAMP:20190316T180153Z
DESCRIPTION:
X-ALT-DESC;FMTTYPE=text/html:
LAST-MODIFIED:20250319T175106Z
X-ACCESS:1
X-HITS:40
X-URL:
X-COLOR:0d00ff
X-SHOW-END-TIME:1
END:VEVENT
BEGIN:VEVENT
DTSTART;TZID=Europe/Zurich:20250507T180000
DTEND;TZID=Europe/Zurich:20250507T200000
UID:492A9B69-8282-4506-9619-E778E5D14668
SUMMARY:25/50m Bundesprogramm
DTSTAMP:20190316T180153Z
DESCRIPTION:
X-ALT-DESC;FMTTYPE=text/html:
LAST-MODIFIED:20250319T175505Z
X-ACCESS:1
X-HITS:40
X-URL:
X-COLOR:0d00ff
X-SHOW-END-TIME:1
END:VEVENT
BEGIN:VEVENT
DTSTART;TZID=Europe/Zurich:20250514T180000
DTEND;TZID=Europe/Zurich:20250514T200000
UID:AEB947BB-0A9C-4C6E-BCA0-37A9925D0D9F
SUMMARY:25/50m Training
DTSTAMP:20190316T180153Z
DESCRIPTION:
X-ALT-DESC;FMTTYPE=text/html:
LAST-MODIFIED:20250319T175124Z
X-ACCESS:1
X-HITS:45
X-URL:
X-COLOR:0d00ff
X-SHOW-END-TIME:1
END:VEVENT
BEGIN:VEVENT
DTSTART;TZID=Europe/Zurich:20250516T180000
DTEND;TZID=Europe/Zurich:20250516T200000
UID:1F960631-3975-435A-84D1-6E225E807DB9
SUMMARY:25/50m Feldschiessen Vorschiessen
DTSTAMP:20190316T180153Z
DESCRIPTION:
X-ALT-DESC;FMTTYPE=text/html:
LAST-MODIFIED:20250319T175610Z
X-ACCESS:1
X-HITS:45
X-URL:
X-COLOR:0d00ff
X-SHOW-END-TIME:1
END:VEVENT
BEGIN:VEVENT
DTSTART;TZID=Europe/Zurich:20250521T180000
DTEND;TZID=Europe/Zurich:20250521T200000
UID:0E69283D-58FD-4DBA-8C02-6D271E6E031D
SUMMARY:25/50m Training
DTSTAMP:20190316T180153Z
DESCRIPTION:
X-ALT-DESC;FMTTYPE=text/html:
LAST-MODIFIED:20250319T175140Z
X-ACCESS:1
X-HITS:13
X-URL:
X-COLOR:0d00ff
X-SHOW-END-TIME:1
END:VEVENT
BEGIN:VEVENT
DTSTART;TZID=Europe/Zurich:20250523T170000
DTEND;TZID=Europe/Zurich:20250523T193000
UID:849C0F62-1F62-475B-AFFA-2936C65E6AEE
SUMMARY:25/50m Feldschiessen
DTSTAMP:20190316T180153Z
DESCRIPTION:
X-ALT-DESC;FMTTYPE=text/html:
LAST-MODIFIED:20250319T175910Z
X-ACCESS:1
X-HITS:29
X-URL:
X-COLOR:0d00ff
X-SHOW-END-TIME:1
END:VEVENT
BEGIN:VEVENT
DTSTART;TZID=Europe/Zurich:20250524T090000
DTEND;TZID=Europe/Zurich:20250524T180000
UID:931CAE9D-F958-4AEA-AF02-F63F518CDD02
SUMMARY:25/50m Feldschiessen
DTSTAMP:20190316T180153Z
DESCRIPTION:
X-ALT-DESC;FMTTYPE=text/html:
LAST-MODIFIED:20250319T175707Z
X-ACCESS:1
X-HITS:22
X-URL:
X-COLOR:0d00ff
X-SHOW-END-TIME:1
END:VEVENT
BEGIN:VEVENT
DTSTART;TZID=Europe/Zurich:20250525T090000
DTEND;TZID=Europe/Zurich:20250525T120000
UID:3EE2067A-46E7-412B-8C9A-5EB5171C654B
SUMMARY:25/50m Feldschiessen
DTSTAMP:20190316T180153Z
DESCRIPTION:
X-ALT-DESC;FMTTYPE=text/html:
LAST-MODIFIED:20250516T185657Z
X-ACCESS:1
X-HITS:39
X-URL:
X-COLOR:0d00ff
X-SHOW-END-TIME:1
END:VEVENT
BEGIN:VEVENT
DTSTART;TZID=Europe/Zurich:20250525T180000
DTEND;TZID=Europe/Zurich:20250525T193000
UID:71504500-A306-4376-BB30-091089500FD7
SUMMARY:Feldschiessen Absenden
DTSTAMP:20190316T180153Z
DESCRIPTION:
X-ALT-DESC;FMTTYPE=text/html:
LAST-MODIFIED:20250516T185744Z
X-ACCESS:1
X-HITS:29
X-URL:
X-COLOR:1cff03
X-SHOW-END-TIME:1
END:VEVENT
BEGIN:VEVENT
DTSTART;TZID=Europe/Zurich:20250604T180000
DTEND;TZID=Europe/Zurich:20250604T200000
UID:11F2F597-BCBB-4AC9-AF22-C5DDF0C3493E
SUMMARY:25/50m Training
DTSTAMP:20190316T180153Z
DESCRIPTION:
X-ALT-DESC;FMTTYPE=text/html:
LAST-MODIFIED:20250319T175156Z
X-ACCESS:1
X-HITS:21
X-URL:
X-COLOR:0d00ff
X-SHOW-END-TIME:1
END:VEVENT
BEGIN:VEVENT
DTSTART;TZID=Europe/Zurich:20250611T180000
DTEND;TZID=Europe/Zurich:20250611T200000
UID:35DB4B0A-2D26-44D2-8D06-E438266ABDA6
SUMMARY:25/50m Kantonalstich
DTSTAMP:20190316T180153Z
DESCRIPTION:
X-ALT-DESC;FMTTYPE=text/html:
LAST-MODIFIED:20250319T175436Z
X-ACCESS:1
X-HITS:22
X-URL:
X-COLOR:0d00ff
X-SHOW-END-TIME:1
END:VEVENT
BEGIN:VEVENT
DTSTART;TZID=Europe/Zurich:20250618T180000
DTEND;TZID=Europe/Zurich:20250618T200000
UID:CABE46E2-13C8-4EAC-8E70-132CEBA8C590
SUMMARY:25/50m Training und vorschiessen Wi-Si-Bü
DTSTAMP:20190316T180153Z
DESCRIPTION:
X-ALT-DESC;FMTTYPE=text/html:
LAST-MODIFIED:20250319T180025Z
X-ACCESS:1
X-HITS:17
X-URL:
X-COLOR:0d00ff
X-SHOW-END-TIME:1
END:VEVENT
BEGIN:VEVENT
DTSTART;TZID=Europe/Zurich:20250620T140000
DTEND;TZID=Europe/Zurich:20250620T190000
UID:4D989065-C407-4D15-904A-DAE1FD1944E1
SUMMARY:25/50m Veteranenschiessen
DTSTAMP:20190316T180153Z
DESCRIPTION:
X-ALT-DESC;FMTTYPE=text/html:
LAST-MODIFIED:20250319T180151Z
X-ACCESS:1
X-HITS:15
X-URL:
X-COLOR:0d00ff
X-SHOW-END-TIME:1
END:VEVENT
BEGIN:VEVENT
DTSTART;TZID=Europe/Zurich:20250625T180000
DTEND;TZID=Europe/Zurich:20250625T200000
UID:0AA9517F-9820-44E5-8D90-9EC04DE66EFE
SUMMARY:25/50m Verbandschiessen
DTSTAMP:20190316T180153Z
DESCRIPTION:
X-ALT-DESC;FMTTYPE=text/html:
LAST-MODIFIED:20250319T180310Z
X-ACCESS:1
X-HITS:20
X-URL:
X-COLOR:0d00ff
X-SHOW-END-TIME:1
END:VEVENT
BEGIN:VEVENT
DTSTART;TZID=Europe/Zurich:20250627T180000
DTEND;TZID=Europe/Zurich:20250627T200000
UID:A8ECCDC0-233F-410D-AE08-ED53A6C3D2A2
SUMMARY:25/50m Wi-Si-Bü
DTSTAMP:20190316T180153Z
DESCRIPTION:
X-ALT-DESC;FMTTYPE=text/html:
LAST-MODIFIED:20250319T180107Z
X-ACCESS:1
X-HITS:33
X-URL:
X-COLOR:0d00ff
X-SHOW-END-TIME:1
END:VEVENT
BEGIN:VEVENT
DTSTART;TZID=Europe/Zurich:20250628T080000
DTEND;TZID=Europe/Zurich:20250628T120000
UID:019DF3B3-D547-4818-9C93-E312AA4751AF
SUMMARY:25/50m Veteranenschiessen
DTSTAMP:20190316T180153Z
DESCRIPTION:
X-ALT-DESC;FMTTYPE=text/html:
LAST-MODIFIED:20250319T180228Z
X-ACCESS:1
X-HITS:16
X-URL:
X-COLOR:0d00ff
X-SHOW-END-TIME:1
END:VEVENT
BEGIN:VEVENT
DTSTART;TZID=Europe/Zurich:20250702T180000
DTEND;TZID=Europe/Zurich:20250702T200000
UID:2756881A-7A4A-42A7-8F8A-C9E3DFB5DFB3
SUMMARY:25/50m Training
DTSTAMP:20190316T180153Z
DESCRIPTION:
X-ALT-DESC;FMTTYPE=text/html:
LAST-MODIFIED:20250319T175217Z
X-ACCESS:1
X-HITS:22
X-URL:
X-COLOR:0d00ff
X-SHOW-END-TIME:1
END:VEVENT
BEGIN:VEVENT
DTSTART;TZID=Europe/Zurich:20250806T180000
DTEND;TZID=Europe/Zurich:20250806T200000
UID:445D6382-C0B5-4A47-AFFC-B7BAAC0A2521
SUMMARY:25/50m Training
DTSTAMP:20190316T180153Z
DESCRIPTION:
X-ALT-DESC;FMTTYPE=text/html:
LAST-MODIFIED:20250319T175230Z
X-ACCESS:1
X-HITS:35
X-URL:
X-COLOR:0d00ff
X-SHOW-END-TIME:1
END:VEVENT
BEGIN:VEVENT
DTSTART;TZID=Europe/Zurich:20250813T180000
DTEND;TZID=Europe/Zurich:20250813T200000
UID:745E048A-2276-4A84-8EE5-11D873DB29E5
SUMMARY:25/50m Verbandschiessen
DTSTAMP:20190316T180153Z
DESCRIPTION:
X-ALT-DESC;FMTTYPE=text/html:
LAST-MODIFIED:20250319T180332Z
X-ACCESS:1
X-HITS:36
X-URL:
X-COLOR:0d00ff
X-SHOW-END-TIME:1
END:VEVENT
BEGIN:VEVENT
DTSTART;TZID=Europe/Zurich:20250827T180000
DTEND;TZID=Europe/Zurich:20250827T200000
UID:B8B39B08-52DA-4D66-A213-6C576FFB6C78
SUMMARY:25/50m Bundesprogramm
DTSTAMP:20190316T180153Z
DESCRIPTION:
X-ALT-DESC;FMTTYPE=text/html:
LAST-MODIFIED:20250319T175533Z
X-ACCESS:1
X-HITS:22
X-URL:
X-COLOR:0d00ff
X-SHOW-END-TIME:1
END:VEVENT
BEGIN:VEVENT
DTSTART;TZID=Europe/Zurich:20250903T180000
DTEND;TZID=Europe/Zurich:20250903T200000
UID:9CAD1F14-534A-49E9-BB55-FECDFD10D6D5
SUMMARY:25/50m Training
DTSTAMP:20190316T180153Z
DESCRIPTION:
X-ALT-DESC;FMTTYPE=text/html:
LAST-MODIFIED:20250319T175247Z
X-ACCESS:1
X-HITS:20
X-URL:
X-COLOR:0d00ff
X-SHOW-END-TIME:1
END:VEVENT
BEGIN:VEVENT
DTSTART;TZID=Europe/Zurich:20250910T180000
DTEND;TZID=Europe/Zurich:20250910T200000
UID:FE5CDCAD-E043-4205-B5E7-A3B74A81BAA2
SUMMARY:25/50m Training
DTSTAMP:20190316T180153Z
DESCRIPTION:
X-ALT-DESC;FMTTYPE=text/html:
LAST-MODIFIED:20250319T175258Z
X-ACCESS:1
X-HITS:17
X-URL:
X-COLOR:0d00ff
X-SHOW-END-TIME:1
END:VEVENT
BEGIN:VEVENT
DTSTART;TZID=Europe/Zurich:20250917T180000
DTEND;TZID=Europe/Zurich:20250917T200000
UID:B5EB6A94-A3E0-4C92-99C1-B566E1EF99B7
SUMMARY:25/50m Endschiessen
DTSTAMP:20190316T180153Z
DESCRIPTION:
X-ALT-DESC;FMTTYPE=text/html:
LAST-MODIFIED:20250319T180353Z
X-ACCESS:1
X-HITS:17
X-URL:
X-COLOR:0d00ff
X-SHOW-END-TIME:1
END:VEVENT
BEGIN:VEVENT
DTSTART;TZID=Europe/Zurich:20250924T180000
DTEND;TZID=Europe/Zurich:20250924T200000
UID:5DE04025-DEFA-4346-B7FD-FA2767B50CA1
SUMMARY:25/50m Endschiessen
DTSTAMP:20190316T180153Z
DESCRIPTION:
X-ALT-DESC;FMTTYPE=text/html:
LAST-MODIFIED:20250916T191424Z
X-ACCESS:1
X-HITS:24
X-URL:
X-COLOR:0d00ff
X-SHOW-END-TIME:1
END:VEVENT
BEGIN:VEVENT
DTSTART;TZID=Europe/Zurich:20250928T100000
DTEND;TZID=Europe/Zurich:20250928T113000
UID:7F4121F5-C906-484F-ACFC-8046D280BAD2
SUMMARY:25/50m Endschiessen
DTSTAMP:20190316T180153Z
DESCRIPTION:
X-ALT-DESC;FMTTYPE=text/html:
LAST-MODIFIED:20250319T180426Z
X-ACCESS:1
X-HITS:31
X-URL:
X-COLOR:0d00ff
X-SHOW-END-TIME:1
END:VEVENT
BEGIN:VEVENT
DTSTART;TZID=Europe/Zurich:20260328T090000
DTEND;TZID=Europe/Zurich:20260328T110000
UID:F2E9040F-1B0D-4639-A1F6-14CB5DD98799
SUMMARY:25/50m Standreinigung
DTSTAMP:20190316T180153Z
DESCRIPTION:
X-ALT-DESC;FMTTYPE=text/html:
LAST-MODIFIED:20260308T120141Z
X-ACCESS:1
X-HITS:15
X-URL:
X-COLOR:0d00ff
X-SHOW-END-TIME:1
END:VEVENT
BEGIN:VEVENT
DTSTART;TZID=Europe/Zurich:20260401T180000
DTEND;TZID=Europe/Zurich:20260401T200000
UID:D05FF379-C1C3-4E4B-B692-F904788C8B37
SUMMARY:25/50m Training
DTSTAMP:20190316T180153Z
DESCRIPTION:
X-ALT-DESC;FMTTYPE=text/html:
LAST-MODIFIED:20260308T120218Z
X-ACCESS:1
X-HITS:23
X-URL:
X-COLOR:0d00ff
X-SHOW-END-TIME:1
END:VEVENT
BEGIN:VEVENT
DTSTART;TZID=Europe/Zurich:20260408T180000
DTEND;TZID=Europe/Zurich:20260408T200000
UID:B0250114-4077-4F88-85E8-828C693438EC
SUMMARY:25/50m Eröffnung
DTSTAMP:20190316T180153Z
DESCRIPTION:
X-ALT-DESC;FMTTYPE=text/html:
LAST-MODIFIED:20260308T120503Z
X-ACCESS:1
X-HITS:14
X-URL:
X-COLOR:0d00ff
X-SHOW-END-TIME:1
END:VEVENT
BEGIN:VEVENT
DTSTART;TZID=Europe/Zurich:20260415T180000
DTEND;TZID=Europe/Zurich:20260415T200000
UID:8C5FB057-DCA1-412F-91EF-F39DC5CCAB53
SUMMARY:25/50m Eröffnung
DTSTAMP:20190316T180153Z
DESCRIPTION:
X-ALT-DESC;FMTTYPE=text/html:
LAST-MODIFIED:20260308T120515Z
X-ACCESS:1
X-HITS:15
X-URL:
X-COLOR:0d00ff
X-SHOW-END-TIME:1
END:VEVENT
BEGIN:VEVENT
DTSTART;TZID=Europe/Zurich:20260422T180000
DTEND;TZID=Europe/Zurich:20260422T200000
UID:943C4396-30AF-4AA5-A0F6-9E52D307C32C
SUMMARY:25/50m Kantonalstich
DTSTAMP:20190316T180153Z
DESCRIPTION:
X-ALT-DESC;FMTTYPE=text/html:
LAST-MODIFIED:20260308T120548Z
X-ACCESS:1
X-HITS:4
X-URL:
X-COLOR:0d00ff
X-SHOW-END-TIME:1
END:VEVENT
BEGIN:VEVENT
DTSTART;TZID=Europe/Zurich:20260429T180000
DTEND;TZID=Europe/Zurich:20260429T200000
UID:B29D629D-7F1B-4E51-A376-8D5F7FA5722C
SUMMARY:25/50m Training
DTSTAMP:20190316T180153Z
DESCRIPTION:
X-ALT-DESC;FMTTYPE=text/html:
LAST-MODIFIED:20260308T120236Z
X-ACCESS:1
X-HITS:0
X-URL:
X-COLOR:0d00ff
X-SHOW-END-TIME:1
END:VEVENT
BEGIN:VEVENT
DTSTART;TZID=Europe/Zurich:20260506T180000
DTEND;TZID=Europe/Zurich:20260506T200000
UID:A151AB5B-B7D4-4709-9B9F-30E49621F9BB
SUMMARY:25/50m Bundesprogramm
DTSTAMP:20190316T180153Z
DESCRIPTION:https://www.sat.admin.ch/search-shooting-days
X-ALT-DESC;FMTTYPE=text/html:<p><a href="https://www.sat.admin.ch/search-shooting-days">https://www.sat.admin.ch/search-shooting-days</a></p>
LAST-MODIFIED:20260308T103313Z
X-ACCESS:1
X-HITS:0
X-URL:
X-COLOR:0d00ff
X-SHOW-END-TIME:1
END:VEVENT
BEGIN:VEVENT
DTSTART;TZID=Europe/Zurich:20260513T180000
DTEND;TZID=Europe/Zurich:20260513T200000
UID:BD04727C-5EAD-4FF5-8DEC-3921D7B67950
SUMMARY:25/50m Training
DTSTAMP:20190316T180153Z
DESCRIPTION:
X-ALT-DESC;FMTTYPE=text/html:
LAST-MODIFIED:20260308T120250Z
X-ACCESS:1
X-HITS:0
X-URL:
X-COLOR:0d00ff
X-SHOW-END-TIME:1
END:VEVENT
BEGIN:VEVENT
DTSTART;TZID=Europe/Zurich:20260520T180000
DTEND;TZID=Europe/Zurich:20260520T200000
UID:89811133-DA4B-4D6D-89FC-D49B27F83895
SUMMARY:25/50m Feldschiessen Training
DTSTAMP:20190316T180153Z
DESCRIPTION:
X-ALT-DESC;FMTTYPE=text/html:
LAST-MODIFIED:20260308T120641Z
X-ACCESS:1
X-HITS:0
X-URL:
X-COLOR:0d00ff
X-SHOW-END-TIME:1
END:VEVENT
BEGIN:VEVENT
DTSTART;TZID=Europe/Zurich:20260527T180000
DTEND;TZID=Europe/Zurich:20260527T200000
UID:19EF0A5B-73AD-46FD-97BA-14F6B71FD7EE
SUMMARY:25/50m Gobelet Frühling
DTSTAMP:20190316T180153Z
DESCRIPTION:
X-ALT-DESC;FMTTYPE=text/html:
LAST-MODIFIED:20260308T120721Z
X-ACCESS:1
X-HITS:0
X-URL:
X-COLOR:0d00ff
X-SHOW-END-TIME:1
END:VEVENT
BEGIN:VEVENT
DTSTART;TZID=Europe/Zurich:20260603T180000
DTEND;TZID=Europe/Zurich:20260603T200000
UID:D09F2B86-FE87-4986-872C-748835F07CBE
SUMMARY:25/50m Training
DTSTAMP:20190316T180153Z
DESCRIPTION:
X-ALT-DESC;FMTTYPE=text/html:
LAST-MODIFIED:20260308T120305Z
X-ACCESS:1
X-HITS:0
X-URL:
X-COLOR:0d00ff
X-SHOW-END-TIME:1
END:VEVENT
BEGIN:VEVENT
DTSTART;TZID=Europe/Zurich:20260610T180000
DTEND;TZID=Europe/Zurich:20260610T200000
UID:4C9F6F42-6091-46D4-8EB0-ACE13F4C2CE0
SUMMARY:25/50m Kantonalstich
DTSTAMP:20190316T180153Z
DESCRIPTION:
X-ALT-DESC;FMTTYPE=text/html:
LAST-MODIFIED:20260308T120812Z
X-ACCESS:1
X-HITS:0
X-URL:
X-COLOR:0d00ff
X-SHOW-END-TIME:1
END:VEVENT
BEGIN:VEVENT
DTSTART;TZID=Europe/Zurich:20260617T180000
DTEND;TZID=Europe/Zurich:20260617T200000
UID:BBE95B25-18B5-4789-B921-26CD11B9BD18
SUMMARY:25/50m Training / Vorschiessen Wi-Si-Bü
DTSTAMP:20190316T180153Z
DESCRIPTION:
X-ALT-DESC;FMTTYPE=text/html:
LAST-MODIFIED:20260308T120842Z
X-ACCESS:1
X-HITS:0
X-URL:
X-COLOR:0d00ff
X-SHOW-END-TIME:1
END:VEVENT
BEGIN:VEVENT
DTSTART;TZID=Europe/Zurich:20260624T180000
DTEND;TZID=Europe/Zurich:20260624T200000
UID:25265235-F546-4CDA-AB29-927076DCBB6F
SUMMARY:25/50m Verbandsschiessen
DTSTAMP:20190316T180153Z
DESCRIPTION:
X-ALT-DESC;FMTTYPE=text/html:
LAST-MODIFIED:20260308T120940Z
X-ACCESS:1
X-HITS:0
X-URL:
X-COLOR:0d00ff
X-SHOW-END-TIME:1
END:VEVENT
BEGIN:VEVENT
DTSTART;TZID=Europe/Zurich:20260701T180000
DTEND;TZID=Europe/Zurich:20260701T200000
UID:5B62DB87-467A-47B5-83F9-55E03501186B
SUMMARY:25/50m Training
DTSTAMP:20190316T180153Z
DESCRIPTION:
X-ALT-DESC;FMTTYPE=text/html:
LAST-MODIFIED:20260308T120321Z
X-ACCESS:1
X-HITS:0
X-URL:
X-COLOR:0d00ff
X-SHOW-END-TIME:1
END:VEVENT
BEGIN:VEVENT
DTSTART;TZID=Europe/Zurich:20260702T180000
DTEND;TZID=Europe/Zurich:20260702T200000
UID:6E4ABD32-E5FA-43CF-88E1-40FE1543A44E
SUMMARY:25/50m Wi-Si-Bü in Wil
DTSTAMP:20190316T180153Z
DESCRIPTION:
X-ALT-DESC;FMTTYPE=text/html:
LAST-MODIFIED:20260308T120911Z
X-ACCESS:1
X-HITS:0
X-URL:
X-COLOR:0d00ff
X-SHOW-END-TIME:1
END:VEVENT
BEGIN:VEVENT
DTSTART;TZID=Europe/Zurich:20260805T180000
DTEND;TZID=Europe/Zurich:20260805T200000
UID:4BD1D4E6-6B4D-403E-82AF-A3D412244B26
SUMMARY:25/50m Training
DTSTAMP:20190316T180153Z
DESCRIPTION:
X-ALT-DESC;FMTTYPE=text/html:
LAST-MODIFIED:20260308T120336Z
X-ACCESS:1
X-HITS:0
X-URL:
X-COLOR:0d00ff
X-SHOW-END-TIME:1
END:VEVENT
BEGIN:VEVENT
DTSTART;TZID=Europe/Zurich:20260812T180000
DTEND;TZID=Europe/Zurich:20260812T200000
UID:9A9A0B7A-01C1-44B0-B585-02D350D9DB70
SUMMARY:25/50m Verbandsschiessen
DTSTAMP:20190316T180153Z
DESCRIPTION:
X-ALT-DESC;FMTTYPE=text/html:
LAST-MODIFIED:20260308T121003Z
X-ACCESS:1
X-HITS:0
X-URL:
X-COLOR:0d00ff
X-SHOW-END-TIME:1
END:VEVENT
BEGIN:VEVENT
DTSTART;TZID=Europe/Zurich:20260819T180000
DTEND;TZID=Europe/Zurich:20260819T200000
UID:385467BB-9F5B-4EB4-9055-D88AE7A7990F
SUMMARY:25/50m Training
DTSTAMP:20190316T180153Z
DESCRIPTION:
X-ALT-DESC;FMTTYPE=text/html:
LAST-MODIFIED:20260308T120351Z
X-ACCESS:1
X-HITS:0
X-URL:
X-COLOR:0d00ff
X-SHOW-END-TIME:1
END:VEVENT
BEGIN:VEVENT
DTSTART;TZID=Europe/Zurich:20260826T180000
DTEND;TZID=Europe/Zurich:20260826T200000
UID:4C71E474-DB62-46B5-9589-E6990EB229AD
SUMMARY:25/50m Bundesprogramm
DTSTAMP:20190316T180153Z
DESCRIPTION:https://www.sat.admin.ch/search-shooting-days
X-ALT-DESC;FMTTYPE=text/html:<p><a href="https://www.sat.admin.ch/search-shooting-days">https://www.sat.admin.ch/search-shooting-days</a></p>
LAST-MODIFIED:20260308T103317Z
X-ACCESS:1
X-HITS:0
X-URL:
X-COLOR:0d00ff
X-SHOW-END-TIME:1
END:VEVENT
BEGIN:VEVENT
DTSTART;TZID=Europe/Zurich:20260902T180000
DTEND;TZID=Europe/Zurich:20260902T200000
UID:58EF980C-1AFB-4602-AAC9-2274F96DB4ED
SUMMARY:25/50m Gobelet Herbst
DTSTAMP:20190316T180153Z
DESCRIPTION:
X-ALT-DESC;FMTTYPE=text/html:
LAST-MODIFIED:20260308T120742Z
X-ACCESS:1
X-HITS:0
X-URL:
X-COLOR:0d00ff
X-SHOW-END-TIME:1
END:VEVENT
BEGIN:VEVENT
DTSTART;TZID=Europe/Zurich:20260909T180000
DTEND;TZID=Europe/Zurich:20260909T200000
UID:860AE635-8739-4072-A615-C3E881C01B71
SUMMARY:25/50m Training
DTSTAMP:20190316T180153Z
DESCRIPTION:
X-ALT-DESC;FMTTYPE=text/html:
LAST-MODIFIED:20260308T120411Z
X-ACCESS:1
X-HITS:0
X-URL:
X-COLOR:0d00ff
X-SHOW-END-TIME:1
END:VEVENT
BEGIN:VEVENT
DTSTART;TZID=Europe/Zurich:20260916T180000
DTEND;TZID=Europe/Zurich:20260916T200000
UID:9EC5549B-351B-4C65-AEAA-6A976B03981F
SUMMARY:25/50m Endschiessen
DTSTAMP:20190316T180153Z
DESCRIPTION:
X-ALT-DESC;FMTTYPE=text/html:
LAST-MODIFIED:20260308T121046Z
X-ACCESS:1
X-HITS:0
X-URL:
X-COLOR:0d00ff
X-SHOW-END-TIME:1
END:VEVENT
BEGIN:VEVENT
DTSTART;TZID=Europe/Zurich:20260923T180000
DTEND;TZID=Europe/Zurich:20260923T200000
UID:ABFDF3B4-D424-406D-BAAA-81A0523A25A3
SUMMARY:25/50m Endschiessen
DTSTAMP:20190316T180153Z
DESCRIPTION:
X-ALT-DESC;FMTTYPE=text/html:
LAST-MODIFIED:20260308T121055Z
X-ACCESS:1
X-HITS:0
X-URL:
X-COLOR:0d00ff
X-SHOW-END-TIME:1
END:VEVENT
BEGIN:VEVENT
DTSTART;TZID=Europe/Zurich:20260927T100000
DTEND;TZID=Europe/Zurich:20260927T113000
UID:732C8F61-3580-4639-A61F-321FB4A04679
SUMMARY:25/50m Endschiessen
DTSTAMP:20190316T180153Z
DESCRIPTION:
X-ALT-DESC;FMTTYPE=text/html:
LAST-MODIFIED:20260308T121203Z
X-ACCESS:1
X-HITS:0
X-URL:
X-COLOR:0d00ff
X-SHOW-END-TIME:1
END:VEVENT
END:VCALENDAR