BEGIN:VCALENDAR
VERSION:2.0
PRODID:DPCALENDAR
CALSCALE:GREGORIAN
BEGIN:VTIMEZONE
TZID:Europe/Zurich
BEGIN:STANDARD
DTSTART:20251026T010000
TZOFFSETFROM:+0200
TZOFFSETTO:+0100
TZNAME:CET
END:STANDARD
BEGIN:STANDARD
DTSTART:20261025T010000
TZOFFSETFROM:+0200
TZOFFSETTO:+0100
TZNAME:CET
END:STANDARD
BEGIN:DAYLIGHT
DTSTART:20260329T010000
TZOFFSETFROM:+0100
TZOFFSETTO:+0200
TZNAME:CEST
END:DAYLIGHT
END:VTIMEZONE
X-WR-TIMEZONE:Europe/Zurich
BEGIN:VEVENT
DTSTART;TZID=Europe/Zurich:20250322T133000
DTEND;TZID=Europe/Zurich:20250322T160000
UID:7374550E-887F-449A-9A4C-B7B25AB4A3F2
SUMMARY:300m JS 1.Schiesstag
DTSTAMP:20190317T164820Z
DESCRIPTION:
X-ALT-DESC;FMTTYPE=text/html:
LAST-MODIFIED:20250316T170407Z
X-ACCESS:1
X-HITS:38
X-URL:
X-COLOR:ff0000
X-SHOW-END-TIME:1
END:VEVENT
BEGIN:VEVENT
DTSTART;TZID=Europe/Zurich:20250322T150000
DTEND;TZID=Europe/Zurich:20250322T180000
UID:25CCFE00-3FC8-4821-99F5-3255F2AE4D5B
SUMMARY:300m Training
DTSTAMP:20190317T164820Z
DESCRIPTION:
X-ALT-DESC;FMTTYPE=text/html:
LAST-MODIFIED:20250316T170558Z
X-ACCESS:1
X-HITS:40
X-URL:
X-COLOR:ff0000
X-SHOW-END-TIME:1
END:VEVENT
BEGIN:VEVENT
DTSTART;TZID=Europe/Zurich:20250329T133000
DTEND;TZID=Europe/Zurich:20250329T160000
UID:5F4BBFA3-006C-4F64-AE81-EC41BB5A1563
SUMMARY:300m JS 2.Schiesstag
DTSTAMP:20190317T164820Z
DESCRIPTION:
X-ALT-DESC;FMTTYPE=text/html:
LAST-MODIFIED:20250316T170510Z
X-ACCESS:1
X-HITS:53
X-URL:
X-COLOR:ff0000
X-SHOW-END-TIME:1
END:VEVENT
BEGIN:VEVENT
DTSTART;TZID=Europe/Zurich:20250329T150000
DTEND;TZID=Europe/Zurich:20250329T180000
UID:10975CD9-FFD8-475C-8091-46D290990B35
SUMMARY:300m Eröffungsschiessen
DTSTAMP:20190317T164820Z
DESCRIPTION:
X-ALT-DESC;FMTTYPE=text/html:
LAST-MODIFIED:20250316T170239Z
X-ACCESS:1
X-HITS:108
X-URL:
X-COLOR:ff0000
X-SHOW-END-TIME:1
END:VEVENT
BEGIN:VEVENT
DTSTART;TZID=Europe/Zurich:20250402T180000
DTEND;TZID=Europe/Zurich:20250402T200000
UID:2C372DBB-63A1-4DD2-8A9D-D7323994510F
SUMMARY:300m JS 3.Schiesstag / Eröffnungsschiessen
DTSTAMP:20190317T164820Z
DESCRIPTION:
X-ALT-DESC;FMTTYPE=text/html:
LAST-MODIFIED:20250316T170437Z
X-ACCESS:1
X-HITS:41
X-URL:
X-COLOR:ff0000
X-SHOW-END-TIME:1
END:VEVENT
BEGIN:VEVENT
DTSTART;TZID=Europe/Zurich:20250407T180000
DTEND;TZID=Europe/Zurich:20250407T200000
UID:8934C08B-9777-43A3-9A19-9B7BFB753612
SUMMARY:50m Gewehr Training
DTSTAMP:20190316T180153Z
DESCRIPTION:
X-ALT-DESC;FMTTYPE=text/html:
LAST-MODIFIED:20250316T171008Z
X-ACCESS:1
X-HITS:48
X-URL:
X-COLOR:f2ff00
X-SHOW-END-TIME:1
END:VEVENT
BEGIN:VEVENT
DTSTART;TZID=Europe/Zurich:20250416T180000
DTEND;TZID=Europe/Zurich:20250416T200000
UID:68D64E27-D6FC-4D75-9FBC-2C24DE6BFED6
SUMMARY:300m Training / GM
DTSTAMP:20190317T164820Z
DESCRIPTION:
X-ALT-DESC;FMTTYPE=text/html:
LAST-MODIFIED:20250316T170732Z
X-ACCESS:1
X-HITS:61
X-URL:
X-COLOR:ff0000
X-SHOW-END-TIME:1
END:VEVENT
BEGIN:VEVENT
DTSTART;TZID=Europe/Zurich:20250423T180000
DTEND;TZID=Europe/Zurich:20250423T200000
UID:07A2F59C-727B-4288-955F-7891CE1B6CB6
SUMMARY:300m Training
DTSTAMP:20190317T164820Z
DESCRIPTION:
X-ALT-DESC;FMTTYPE=text/html:
LAST-MODIFIED:20250316T170807Z
X-ACCESS:1
X-HITS:50
X-URL:
X-COLOR:ff0000
X-SHOW-END-TIME:1
END:VEVENT
BEGIN:VEVENT
DTSTART;TZID=Europe/Zurich:20250425T180000
DTEND;TZID=Europe/Zurich:20250425T190000
UID:0542042B-4DCD-44A6-A77F-AD87D90D4BE4
SUMMARY:300m Bundesprogramm / Obligatorisch
DTSTAMP:20190317T164820Z
DESCRIPTION:https://www.sat.admin.ch/search-shooting-days
X-ALT-DESC;FMTTYPE=text/html:<p><a href="https://www.sat.admin.ch/search-shooting-days">https://www.sat.admin.ch/search-shooting-days</a></p>
LAST-MODIFIED:20260308T103259Z
X-ACCESS:1
X-HITS:60
X-URL:
X-COLOR:ff0000
X-SHOW-END-TIME:1
END:VEVENT
BEGIN:VEVENT
DTSTART;TZID=Europe/Zurich:20250430T180000
DTEND;TZID=Europe/Zurich:20250430T200000
UID:C9FA0355-4B71-437D-96B5-0F8ED87BD2BA
SUMMARY:300m JS 5.Schiesstag / Training
DTSTAMP:20190317T164820Z
DESCRIPTION:
X-ALT-DESC;FMTTYPE=text/html:
LAST-MODIFIED:20250316T170828Z
X-ACCESS:1
X-HITS:31
X-URL:
X-COLOR:ff0000
X-SHOW-END-TIME:1
END:VEVENT
BEGIN:VEVENT
DTSTART;TZID=Europe/Zurich:20250505T180000
DTEND;TZID=Europe/Zurich:20250505T200000
UID:84B274EB-F8C8-4240-A5DF-E3ACF42B138C
SUMMARY:50m Gewehr Training
DTSTAMP:20190316T180153Z
DESCRIPTION:
X-ALT-DESC;FMTTYPE=text/html:
LAST-MODIFIED:20250316T171029Z
X-ACCESS:1
X-HITS:29
X-URL:
X-COLOR:f2ff00
X-SHOW-END-TIME:1
END:VEVENT
BEGIN:VEVENT
DTSTART;TZID=Europe/Zurich:20250507T180000
DTEND;TZID=Europe/Zurich:20250507T200000
UID:C781CF4A-D6BB-41F7-B84F-A256AFDDCF27
SUMMARY:300m Hans Widmer Gedenkschiessen
DTSTAMP:20190317T164820Z
DESCRIPTION:
X-ALT-DESC;FMTTYPE=text/html:
LAST-MODIFIED:20250316T171302Z
X-ACCESS:1
X-HITS:32
X-URL:
X-COLOR:ff0000
X-SHOW-END-TIME:1
END:VEVENT
BEGIN:VEVENT
DTSTART;TZID=Europe/Zurich:20250514T180000
DTEND;TZID=Europe/Zurich:20250514T200000
UID:77245186-DED5-4FC1-AA5D-9E9FEA911E94
SUMMARY:300m Training
DTSTAMP:20190317T164820Z
DESCRIPTION:
X-ALT-DESC;FMTTYPE=text/html:
LAST-MODIFIED:20250316T171321Z
X-ACCESS:1
X-HITS:49
X-URL:
X-COLOR:ff0000
X-SHOW-END-TIME:1
END:VEVENT
BEGIN:VEVENT
DTSTART;TZID=Europe/Zurich:20250521T180000
DTEND;TZID=Europe/Zurich:20250521T200000
UID:FA7653DA-1E3B-4502-B118-D0533255F53E
SUMMARY:300m Training / kommandiertes Feldschiessentraining
DTSTAMP:20190317T164820Z
DESCRIPTION:
X-ALT-DESC;FMTTYPE=text/html:
LAST-MODIFIED:20250316T171528Z
X-ACCESS:1
X-HITS:8
X-URL:
X-COLOR:ff0000
X-SHOW-END-TIME:1
END:VEVENT
BEGIN:VEVENT
DTSTART;TZID=Europe/Zurich:20250526T180000
DTEND;TZID=Europe/Zurich:20250526T200000
UID:00A424CC-F288-4173-92A2-7A7EBA2186C4
SUMMARY:50m Gewehr Training
DTSTAMP:20190316T180153Z
DESCRIPTION:
X-ALT-DESC;FMTTYPE=text/html:
LAST-MODIFIED:20250316T171041Z
X-ACCESS:1
X-HITS:14
X-URL:
X-COLOR:f2ff00
X-SHOW-END-TIME:1
END:VEVENT
BEGIN:VEVENT
DTSTART;TZID=Europe/Zurich:20250528T180000
DTEND;TZID=Europe/Zurich:20250528T200000
UID:044562C4-D506-46A8-99ED-4693BE9C4113
SUMMARY:300m Training
DTSTAMP:20190317T164820Z
DESCRIPTION:
X-ALT-DESC;FMTTYPE=text/html:
LAST-MODIFIED:20250316T171400Z
X-ACCESS:1
X-HITS:21
X-URL:
X-COLOR:ff0000
X-SHOW-END-TIME:1
END:VEVENT
BEGIN:VEVENT
DTSTART;TZID=Europe/Zurich:20250604T180000
DTEND;TZID=Europe/Zurich:20250604T200000
UID:9F834AE2-8030-4B18-B6A1-1B47E04847D2
SUMMARY:300m JS 6.Schiesstag / Training
DTSTAMP:20190317T164820Z
DESCRIPTION:
X-ALT-DESC;FMTTYPE=text/html:
LAST-MODIFIED:20250316T171558Z
X-ACCESS:1
X-HITS:22
X-URL:
X-COLOR:ff0000
X-SHOW-END-TIME:1
END:VEVENT
BEGIN:VEVENT
DTSTART;TZID=Europe/Zurich:20250611T180000
DTEND;TZID=Europe/Zurich:20250611T200000
UID:CEB320E8-9B00-4A35-BF4A-001B9CF235E5
SUMMARY:300m Training (vorschiessen Putzstockschiessen)
DTSTAMP:20190317T164820Z
DESCRIPTION:
X-ALT-DESC;FMTTYPE=text/html:
LAST-MODIFIED:20250316T171631Z
X-ACCESS:1
X-HITS:23
X-URL:
X-COLOR:ff0000
X-SHOW-END-TIME:1
END:VEVENT
BEGIN:VEVENT
DTSTART;TZID=Europe/Zurich:20250613T160000
DTEND;TZID=Europe/Zurich:20250613T190000
UID:EA073454-3D9B-4FDD-96CB-94D784446FE4
SUMMARY:300m Putzstockschiessen
DTSTAMP:20190317T164820Z
DESCRIPTION:
X-ALT-DESC;FMTTYPE=text/html:
LAST-MODIFIED:20250316T171827Z
X-ACCESS:1
X-HITS:25
X-URL:
X-COLOR:ff0000
X-SHOW-END-TIME:1
END:VEVENT
BEGIN:VEVENT
DTSTART;TZID=Europe/Zurich:20250614T080000
DTEND;TZID=Europe/Zurich:20250614T160000
UID:C7A6630C-1220-4023-99A3-ECE13C624A83
SUMMARY:300m Putzstockschiessen
DTSTAMP:20190317T164820Z
DESCRIPTION:
X-ALT-DESC;FMTTYPE=text/html:
LAST-MODIFIED:20250316T171846Z
X-ACCESS:1
X-HITS:15
X-URL:
X-COLOR:ff0000
X-SHOW-END-TIME:1
END:VEVENT
BEGIN:VEVENT
DTSTART;TZID=Europe/Zurich:20250620T170000
DTEND;TZID=Europe/Zurich:20250620T200000
UID:E38FDC13-A9E4-4C8A-ADD2-75868329DA99
SUMMARY:Veteranenschiessen
DTSTAMP:20190317T164820Z
DESCRIPTION:
X-ALT-DESC;FMTTYPE=text/html:
LAST-MODIFIED:20250316T172103Z
X-ACCESS:1
X-HITS:23
X-URL:
X-COLOR:ff0000
X-SHOW-END-TIME:1
END:VEVENT
BEGIN:VEVENT
DTSTART;TZID=Europe/Zurich:20250621T080000
DTEND;TZID=Europe/Zurich:20250621T160000
UID:721A32D5-3E6F-49E0-BA4B-0F5D3EE943D0
SUMMARY:300m Putzstockschiessen
DTSTAMP:20190317T164820Z
DESCRIPTION:
X-ALT-DESC;FMTTYPE=text/html:
LAST-MODIFIED:20250316T171908Z
X-ACCESS:1
X-HITS:16
X-URL:
X-COLOR:ff0000
X-SHOW-END-TIME:1
END:VEVENT
BEGIN:VEVENT
DTSTART;TZID=Europe/Zurich:20250622T080000
DTEND;TZID=Europe/Zurich:20250622T113000
UID:7B39EACA-2111-4D14-8BF0-D555F8D3D821
SUMMARY:300m Putzstockschiessen
DTSTAMP:20190317T164820Z
DESCRIPTION:
X-ALT-DESC;FMTTYPE=text/html:
LAST-MODIFIED:20250316T171930Z
X-ACCESS:1
X-HITS:13
X-URL:
X-COLOR:ff0000
X-SHOW-END-TIME:1
END:VEVENT
BEGIN:VEVENT
DTSTART;TZID=Europe/Zurich:20250628T090000
DTEND;TZID=Europe/Zurich:20250628T113000
UID:194DB2E5-6399-4749-B18F-FE59540F3767
SUMMARY:Veteranenschiessen
DTSTAMP:20190317T164820Z
DESCRIPTION:
X-ALT-DESC;FMTTYPE=text/html:
LAST-MODIFIED:20250316T172126Z
X-ACCESS:1
X-HITS:50
X-URL:
X-COLOR:ff0000
X-SHOW-END-TIME:1
END:VEVENT
BEGIN:VEVENT
DTSTART;TZID=Europe/Zurich:20250702T180000
DTEND;TZID=Europe/Zurich:20250702T200000
UID:454CDEAC-3DF1-4F32-B30F-28025A779E7B
SUMMARY:300m Training
DTSTAMP:20190317T164820Z
DESCRIPTION:
X-ALT-DESC;FMTTYPE=text/html:
LAST-MODIFIED:20250316T172407Z
X-ACCESS:1
X-HITS:20
X-URL:
X-COLOR:ff0000
X-SHOW-END-TIME:1
END:VEVENT
BEGIN:VEVENT
DTSTART;TZID=Europe/Zurich:20250707T180000
DTEND;TZID=Europe/Zurich:20250707T200000
UID:58F89BE6-9096-4338-9BAD-A52189F85848
SUMMARY:50m Gewehr Training
DTSTAMP:20190316T180153Z
DESCRIPTION:
X-ALT-DESC;FMTTYPE=text/html:
LAST-MODIFIED:20250316T171102Z
X-ACCESS:1
X-HITS:20
X-URL:
X-COLOR:f2ff00
X-SHOW-END-TIME:1
END:VEVENT
BEGIN:VEVENT
DTSTART;TZID=Europe/Zurich:20250806T180000
DTEND;TZID=Europe/Zurich:20250806T200000
UID:C6C1EBD4-89E0-4BF2-A7BB-A3E25225E0C7
SUMMARY:300m JS + GM Training
DTSTAMP:20190317T164820Z
DESCRIPTION:
X-ALT-DESC;FMTTYPE=text/html:
LAST-MODIFIED:20250316T172629Z
X-ACCESS:1
X-HITS:51
X-URL:
X-COLOR:ff0000
X-SHOW-END-TIME:1
END:VEVENT
BEGIN:VEVENT
DTSTART;TZID=Europe/Zurich:20250811T180000
DTEND;TZID=Europe/Zurich:20250811T200000
UID:59BFF6CF-B5FC-4ED7-8ECF-ECE2B89CA0D2
SUMMARY:50m Gewehr Training
DTSTAMP:20190316T180153Z
DESCRIPTION:
X-ALT-DESC;FMTTYPE=text/html:
LAST-MODIFIED:20250316T171115Z
X-ACCESS:1
X-HITS:36
X-URL:
X-COLOR:f2ff00
X-SHOW-END-TIME:1
END:VEVENT
BEGIN:VEVENT
DTSTART;TZID=Europe/Zurich:20250813T180000
DTEND;TZID=Europe/Zurich:20250813T200000
UID:6ACEFD1E-6759-4561-BEC2-9FDC7B027FA1
SUMMARY:300m Cup-Final (nur Cup-Schützen)
DTSTAMP:20190317T164820Z
DESCRIPTION:
X-ALT-DESC;FMTTYPE=text/html:
LAST-MODIFIED:20250316T172605Z
X-ACCESS:1
X-HITS:47
X-URL:
X-COLOR:ff0000
X-SHOW-END-TIME:1
END:VEVENT
BEGIN:VEVENT
DTSTART;TZID=Europe/Zurich:20250820T180000
DTEND;TZID=Europe/Zurich:20250820T200000
UID:BE119802-2E1D-4A46-A8AC-7A72EF29667C
SUMMARY:300m Training
DTSTAMP:20190317T164820Z
DESCRIPTION:
X-ALT-DESC;FMTTYPE=text/html:
LAST-MODIFIED:20250316T172448Z
X-ACCESS:1
X-HITS:18
X-URL:
X-COLOR:ff0000
X-SHOW-END-TIME:1
END:VEVENT
BEGIN:VEVENT
DTSTART;TZID=Europe/Zurich:20250827T180000
DTEND;TZID=Europe/Zurich:20250827T200000
UID:2FBA1E5C-59A6-42D6-8617-494DE5A733F0
SUMMARY:300m Kantonalstich + Auszahlungsstich
DTSTAMP:20190317T164820Z
DESCRIPTION:
X-ALT-DESC;FMTTYPE=text/html:
LAST-MODIFIED:20250316T172536Z
X-ACCESS:1
X-HITS:31
X-URL:
X-COLOR:ff0000
X-SHOW-END-TIME:1
END:VEVENT
BEGIN:VEVENT
DTSTART;TZID=Europe/Zurich:20250829T180000
DTEND;TZID=Europe/Zurich:20250829T190000
UID:831A2544-6EDA-41D4-9E5D-1A8708EB9DA3
SUMMARY:300m Bundesprogramm / Obligatorisch
DTSTAMP:20190317T164820Z
DESCRIPTION:
X-ALT-DESC;FMTTYPE=text/html:
LAST-MODIFIED:20250828T185000Z
X-ACCESS:1
X-HITS:53
X-URL:
X-COLOR:ff0000
X-SHOW-END-TIME:1
END:VEVENT
BEGIN:VEVENT
DTSTART;TZID=Europe/Zurich:20250901T180000
DTEND;TZID=Europe/Zurich:20250901T200000
UID:4069F64E-9202-4D68-9331-4E7E527652D9
SUMMARY:50m Gewehr Training
DTSTAMP:20190316T180153Z
DESCRIPTION:
X-ALT-DESC;FMTTYPE=text/html:
LAST-MODIFIED:20250316T171129Z
X-ACCESS:1
X-HITS:10
X-URL:
X-COLOR:f2ff00
X-SHOW-END-TIME:1
END:VEVENT
BEGIN:VEVENT
DTSTART;TZID=Europe/Zurich:20250903T180000
DTEND;TZID=Europe/Zurich:20250903T200000
UID:A4F7149E-D723-4DE4-BC4E-5016C16F9200
SUMMARY:300m Training
DTSTAMP:20190317T164820Z
DESCRIPTION:
X-ALT-DESC;FMTTYPE=text/html:
LAST-MODIFIED:20250316T172742Z
X-ACCESS:1
X-HITS:13
X-URL:
X-COLOR:ff0000
X-SHOW-END-TIME:1
END:VEVENT
BEGIN:VEVENT
DTSTART;TZID=Europe/Zurich:20250910T180000
DTEND;TZID=Europe/Zurich:20250910T200000
UID:FFF90B15-FC34-454A-941D-26C7B62C017E
SUMMARY:300m Training
DTSTAMP:20190317T164820Z
DESCRIPTION:
X-ALT-DESC;FMTTYPE=text/html:
LAST-MODIFIED:20250316T172757Z
X-ACCESS:1
X-HITS:22
X-URL:
X-COLOR:ff0000
X-SHOW-END-TIME:1
END:VEVENT
BEGIN:VEVENT
DTSTART;TZID=Europe/Zurich:20250927T130000
DTEND;TZID=Europe/Zurich:20250927T170000
UID:53B013A7-B4B5-43EB-B632-DECA63393EC5
SUMMARY:300m Endschiessen mit JS
DTSTAMP:20190317T164820Z
DESCRIPTION:
X-ALT-DESC;FMTTYPE=text/html:
LAST-MODIFIED:20250316T172252Z
X-ACCESS:1
X-HITS:30
X-URL:
X-COLOR:ff0000
X-SHOW-END-TIME:1
END:VEVENT
BEGIN:VEVENT
DTSTART;TZID=Europe/Zurich:20251114T190000
DTEND;TZID=Europe/Zurich:20251114T223000
UID:073836EA-6DC8-4D12-9AC5-69459D1A8CBD
SUMMARY:Absenden
DTSTAMP:20190317T164820Z
DESCRIPTION:Restaurant Rössli Dietfurt
X-ALT-DESC;FMTTYPE=text/html:<p><span style="font-family: arial, helvetica, sans-serif; font-size: 10pt;">Restaurant Rössli Dietfurt</span></p>
LAST-MODIFIED:20250316T173024Z
X-ACCESS:1
X-HITS:556
X-URL:
X-COLOR:ff0000
X-SHOW-END-TIME:1
END:VEVENT
BEGIN:VEVENT
DTSTART;TZID=Europe/Zurich:20260321T133000
DTEND;TZID=Europe/Zurich:20260321T160000
UID:4F7BB0DD-2028-4484-BC8A-DA052F3191EE
SUMMARY:300m JS 1.Schiesstag
DTSTAMP:20190317T164820Z
DESCRIPTION:
X-ALT-DESC;FMTTYPE=text/html:
LAST-MODIFIED:20260308T113957Z
X-ACCESS:1
X-HITS:18
X-URL:
X-COLOR:ff0000
X-SHOW-END-TIME:1
END:VEVENT
BEGIN:VEVENT
DTSTART;TZID=Europe/Zurich:20260321T150000
DTEND;TZID=Europe/Zurich:20260321T180000
UID:A401F77E-4DE5-461A-81AC-BF47F6A2D794
SUMMARY:300m Training
DTSTAMP:20190317T164820Z
DESCRIPTION:
X-ALT-DESC;FMTTYPE=text/html:
LAST-MODIFIED:20260308T114339Z
X-ACCESS:1
X-HITS:13
X-URL:
X-COLOR:ff0000
X-SHOW-END-TIME:1
END:VEVENT
BEGIN:VEVENT
DTSTART;TZID=Europe/Zurich:20260328T133000
DTEND;TZID=Europe/Zurich:20260328T160000
UID:2FF70378-2504-40DC-B7B4-C1A449C94666
SUMMARY:300m JS 2.Schiesstag
DTSTAMP:20190317T164820Z
DESCRIPTION:
X-ALT-DESC;FMTTYPE=text/html:
LAST-MODIFIED:20260308T114031Z
X-ACCESS:1
X-HITS:11
X-URL:
X-COLOR:ff0000
X-SHOW-END-TIME:1
END:VEVENT
BEGIN:VEVENT
DTSTART;TZID=Europe/Zurich:20260328T150000
DTEND;TZID=Europe/Zurich:20260328T180000
UID:8B6617D5-4E77-4652-8CAF-57C0226EF8FB
SUMMARY:300m Eröffnungsschiessen
DTSTAMP:20190317T164820Z
DESCRIPTION:
X-ALT-DESC;FMTTYPE=text/html:
LAST-MODIFIED:20260308T114724Z
X-ACCESS:1
X-HITS:20
X-URL:
X-COLOR:ff0000
X-SHOW-END-TIME:1
END:VEVENT
BEGIN:VEVENT
DTSTART;TZID=Europe/Zurich:20260401T180000
DTEND;TZID=Europe/Zurich:20260401T200000
UID:D90D990A-B659-4286-B771-5D724751C353
SUMMARY:300m JS 3.Schiesstag / Eröffnungsschiessen
DTSTAMP:20190317T164820Z
DESCRIPTION:
X-ALT-DESC;FMTTYPE=text/html:
LAST-MODIFIED:20260308T114103Z
X-ACCESS:1
X-HITS:22
X-URL:
X-COLOR:ff0000
X-SHOW-END-TIME:1
END:VEVENT
BEGIN:VEVENT
DTSTART;TZID=Europe/Zurich:20260408T180000
DTEND;TZID=Europe/Zurich:20260408T200000
UID:06D329FB-CDBE-43C1-BC70-4C1BC8461DF2
SUMMARY:300m JS 4.Schiesstag / Training / GM
DTSTAMP:20190317T164820Z
DESCRIPTION:
X-ALT-DESC;FMTTYPE=text/html:
LAST-MODIFIED:20260308T114130Z
X-ACCESS:1
X-HITS:51
X-URL:
X-COLOR:ff0000
X-SHOW-END-TIME:1
END:VEVENT
BEGIN:VEVENT
DTSTART;TZID=Europe/Zurich:20260408T180000
DTEND;TZID=Europe/Zurich:20260408T200000
UID:82826955-79E6-4874-A3A5-549E13BE759B
SUMMARY:300m Training
DTSTAMP:20190317T164820Z
DESCRIPTION:
X-ALT-DESC;FMTTYPE=text/html:
LAST-MODIFIED:20260401T160549Z
X-ACCESS:1
X-HITS:15
X-URL:
X-COLOR:ff0000
X-SHOW-END-TIME:1
END:VEVENT
BEGIN:VEVENT
DTSTART;TZID=Europe/Zurich:20260413T180000
DTEND;TZID=Europe/Zurich:20260413T200000
UID:82B167EC-5B02-4E8B-99F8-196F7F18073C
SUMMARY:50m Gewehr Training
DTSTAMP:20190316T180153Z
DESCRIPTION:
X-ALT-DESC;FMTTYPE=text/html:
LAST-MODIFIED:20260308T114157Z
X-ACCESS:1
X-HITS:10
X-URL:
X-COLOR:f2ff00
X-SHOW-END-TIME:1
END:VEVENT
BEGIN:VEVENT
DTSTART;TZID=Europe/Zurich:20260415T180000
DTEND;TZID=Europe/Zurich:20260415T200000
UID:8706CF2A-C986-4104-AFFE-21A779DB24BE
SUMMARY:300m Training / GM
DTSTAMP:20190317T164820Z
DESCRIPTION:
X-ALT-DESC;FMTTYPE=text/html:
LAST-MODIFIED:20260308T115255Z
X-ACCESS:1
X-HITS:15
X-URL:
X-COLOR:ff0000
X-SHOW-END-TIME:1
END:VEVENT
BEGIN:VEVENT
DTSTART;TZID=Europe/Zurich:20260422T180000
DTEND;TZID=Europe/Zurich:20260422T200000
UID:F4DB3A78-C3A1-47E3-A3E3-E0AD2C93FEFD
SUMMARY:300m Training
DTSTAMP:20190317T164820Z
DESCRIPTION:
X-ALT-DESC;FMTTYPE=text/html:
LAST-MODIFIED:20260308T114422Z
X-ACCESS:1
X-HITS:7
X-URL:
X-COLOR:ff0000
X-SHOW-END-TIME:1
END:VEVENT
BEGIN:VEVENT
DTSTART;TZID=Europe/Zurich:20260424T180000
DTEND;TZID=Europe/Zurich:20260424T190000
UID:8E696B85-E961-4017-B292-FA045B37A4E5
SUMMARY:300m Bundesprogramm / Obligatorisch
DTSTAMP:20190317T164820Z
DESCRIPTION:https://www.sat.admin.ch/search-shooting-days
X-ALT-DESC;FMTTYPE=text/html:<p><a href="https://www.sat.admin.ch/search-shooting-days">https://www.sat.admin.ch/search-shooting-days</a></p>
LAST-MODIFIED:20260308T103029Z
X-ACCESS:1
X-HITS:1
X-URL:
X-COLOR:ff0000
X-SHOW-END-TIME:1
END:VEVENT
BEGIN:VEVENT
DTSTART;TZID=Europe/Zurich:20260429T180000
DTEND;TZID=Europe/Zurich:20260429T200000
UID:7D8EFE49-C370-405F-B437-9FD7598B7248
SUMMARY:300m JS 5.Schiesstag / Training
DTSTAMP:20190317T164820Z
DESCRIPTION:
X-ALT-DESC;FMTTYPE=text/html:
LAST-MODIFIED:20260308T115316Z
X-ACCESS:1
X-HITS:0
X-URL:
X-COLOR:ff0000
X-SHOW-END-TIME:1
END:VEVENT
BEGIN:VEVENT
DTSTART;TZID=Europe/Zurich:20260504T180000
DTEND;TZID=Europe/Zurich:20260504T200000
UID:E52178CC-15C8-476C-9E5E-B423C313F501
SUMMARY:50m Gewehr Training 
DTSTAMP:20190316T180153Z
DESCRIPTION:
X-ALT-DESC;FMTTYPE=text/html:
LAST-MODIFIED:20260308T114212Z
X-ACCESS:1
X-HITS:2
X-URL:
X-COLOR:f2ff00
X-SHOW-END-TIME:1
END:VEVENT
BEGIN:VEVENT
DTSTART;TZID=Europe/Zurich:20260506T180000
DTEND;TZID=Europe/Zurich:20260506T200000
UID:2A92A0BE-EF8A-4866-AFC5-DCA01C8EAE95
SUMMARY:300m Training
DTSTAMP:20190317T164820Z
DESCRIPTION:
X-ALT-DESC;FMTTYPE=text/html:
LAST-MODIFIED:20260308T114441Z
X-ACCESS:1
X-HITS:0
X-URL:
X-COLOR:ff0000
X-SHOW-END-TIME:1
END:VEVENT
BEGIN:VEVENT
DTSTART;TZID=Europe/Zurich:20260513T180000
DTEND;TZID=Europe/Zurich:20260513T200000
UID:2781FFB7-9F10-4FD9-B70E-39CA2D58DAAB
SUMMARY:300m Training
DTSTAMP:20190317T164820Z
DESCRIPTION:
X-ALT-DESC;FMTTYPE=text/html:
LAST-MODIFIED:20260308T114453Z
X-ACCESS:1
X-HITS:0
X-URL:
X-COLOR:ff0000
X-SHOW-END-TIME:1
END:VEVENT
BEGIN:VEVENT
DTSTART;TZID=Europe/Zurich:20260527T180000
DTEND;TZID=Europe/Zurich:20260527T200000
UID:62B17666-D45E-4F78-B7F3-31C5C1FCBD04
SUMMARY:300m Training
DTSTAMP:20190317T164820Z
DESCRIPTION:
X-ALT-DESC;FMTTYPE=text/html:
LAST-MODIFIED:20260308T114803Z
X-ACCESS:1
X-HITS:0
X-URL:
X-COLOR:ff0000
X-SHOW-END-TIME:1
END:VEVENT
BEGIN:VEVENT
DTSTART;TZID=Europe/Zurich:20260601T180000
DTEND;TZID=Europe/Zurich:20260601T200000
UID:E3D348B4-0410-4EE5-8C17-43659BB9CF0A
SUMMARY:50m Gewehr Training
DTSTAMP:20190316T180153Z
DESCRIPTION:
X-ALT-DESC;FMTTYPE=text/html:
LAST-MODIFIED:20260308T114227Z
X-ACCESS:1
X-HITS:0
X-URL:
X-COLOR:f2ff00
X-SHOW-END-TIME:1
END:VEVENT
BEGIN:VEVENT
DTSTART;TZID=Europe/Zurich:20260603T180000
DTEND;TZID=Europe/Zurich:20260603T200000
UID:C5EC4AE2-852E-485C-A337-A2616B9BCE50
SUMMARY:300m JS 6.Schiesstag / Training
DTSTAMP:20190317T164820Z
DESCRIPTION:
X-ALT-DESC;FMTTYPE=text/html:
LAST-MODIFIED:20260308T115345Z
X-ACCESS:1
X-HITS:0
X-URL:
X-COLOR:ff0000
X-SHOW-END-TIME:1
END:VEVENT
BEGIN:VEVENT
DTSTART;TZID=Europe/Zurich:20260610T180000
DTEND;TZID=Europe/Zurich:20260610T200000
UID:3D83BC6A-761F-4FD0-B4A1-A6C485AE1A3F
SUMMARY:300m Training
DTSTAMP:20190317T164820Z
DESCRIPTION:
X-ALT-DESC;FMTTYPE=text/html:
LAST-MODIFIED:20260308T114518Z
X-ACCESS:1
X-HITS:0
X-URL:
X-COLOR:ff0000
X-SHOW-END-TIME:1
END:VEVENT
BEGIN:VEVENT
DTSTART;TZID=Europe/Zurich:20260617T180000
DTEND;TZID=Europe/Zurich:20260617T200000
UID:07FED6A8-E5CE-4B12-9446-8AB7D8ED2332
SUMMARY:300m Training
DTSTAMP:20190317T164820Z
DESCRIPTION:
X-ALT-DESC;FMTTYPE=text/html:
LAST-MODIFIED:20260308T114531Z
X-ACCESS:1
X-HITS:0
X-URL:
X-COLOR:ff0000
X-SHOW-END-TIME:1
END:VEVENT
BEGIN:VEVENT
DTSTART;TZID=Europe/Zurich:20260624T180000
DTEND;TZID=Europe/Zurich:20260624T200000
UID:B82E849A-574D-45B4-B0F2-FFD8F7DC6F0B
SUMMARY:300m Training
DTSTAMP:20190317T164820Z
DESCRIPTION:
X-ALT-DESC;FMTTYPE=text/html:
LAST-MODIFIED:20260308T114543Z
X-ACCESS:1
X-HITS:0
X-URL:
X-COLOR:ff0000
X-SHOW-END-TIME:1
END:VEVENT
BEGIN:VEVENT
DTSTART;TZID=Europe/Zurich:20260701T180000
DTEND;TZID=Europe/Zurich:20260701T200000
UID:4749F9DD-B260-413B-9824-DC19BADC5B97
SUMMARY:300m Training
DTSTAMP:20190317T164820Z
DESCRIPTION:
X-ALT-DESC;FMTTYPE=text/html:
LAST-MODIFIED:20260308T114555Z
X-ACCESS:1
X-HITS:0
X-URL:
X-COLOR:ff0000
X-SHOW-END-TIME:1
END:VEVENT
BEGIN:VEVENT
DTSTART;TZID=Europe/Zurich:20260706T180000
DTEND;TZID=Europe/Zurich:20260706T200000
UID:B41D9CBF-E9F2-4218-965D-D31B599EBB0E
SUMMARY:50m Gewehr Training
DTSTAMP:20190316T180153Z
DESCRIPTION:
X-ALT-DESC;FMTTYPE=text/html:
LAST-MODIFIED:20260308T114240Z
X-ACCESS:1
X-HITS:1
X-URL:
X-COLOR:f2ff00
X-SHOW-END-TIME:1
END:VEVENT
BEGIN:VEVENT
DTSTART;TZID=Europe/Zurich:20260805T180000
DTEND;TZID=Europe/Zurich:20260805T200000
UID:EC3425BB-A643-46B0-AB24-6C411BD5ABD1
SUMMARY:300m JS Gruppentraining / Training
DTSTAMP:20190317T164820Z
DESCRIPTION:
X-ALT-DESC;FMTTYPE=text/html:
LAST-MODIFIED:20260308T115418Z
X-ACCESS:1
X-HITS:0
X-URL:
X-COLOR:ff0000
X-SHOW-END-TIME:1
END:VEVENT
BEGIN:VEVENT
DTSTART;TZID=Europe/Zurich:20260810T180000
DTEND;TZID=Europe/Zurich:20260810T200000
UID:0494EB74-4F5F-4D7C-9139-14BBE2FE2CD9
SUMMARY:50m Gewehr Training
DTSTAMP:20190316T180153Z
DESCRIPTION:
X-ALT-DESC;FMTTYPE=text/html:
LAST-MODIFIED:20260308T114255Z
X-ACCESS:1
X-HITS:0
X-URL:
X-COLOR:f2ff00
X-SHOW-END-TIME:1
END:VEVENT
BEGIN:VEVENT
DTSTART;TZID=Europe/Zurich:20260812T180000
DTEND;TZID=Europe/Zurich:20260812T200000
UID:4CB14CE0-B362-4C85-B7EB-02AADDAE98A7
SUMMARY:300m Cup-Final (nur Cup-Schützen)
DTSTAMP:20190317T164820Z
DESCRIPTION:
X-ALT-DESC;FMTTYPE=text/html:
LAST-MODIFIED:20260308T115745Z
X-ACCESS:1
X-HITS:0
X-URL:
X-COLOR:ff0000
X-SHOW-END-TIME:1
END:VEVENT
BEGIN:VEVENT
DTSTART;TZID=Europe/Zurich:20260819T180000
DTEND;TZID=Europe/Zurich:20260819T200000
UID:3D58C11A-89A2-4D37-B825-F99EA6A38CF1
SUMMARY:300m Freundschaftsschiessen mit Maseltrangen
DTSTAMP:20190317T164820Z
DESCRIPTION:
X-ALT-DESC;FMTTYPE=text/html:
LAST-MODIFIED:20260308T115813Z
X-ACCESS:1
X-HITS:19
X-URL:
X-COLOR:ff0000
X-SHOW-END-TIME:1
END:VEVENT
BEGIN:VEVENT
DTSTART;TZID=Europe/Zurich:20260826T180000
DTEND;TZID=Europe/Zurich:20260826T200000
UID:85EC8624-226F-4FC5-8F7E-B76977FC7B05
SUMMARY:300m Kantonalstich + Auszahlungsstich
DTSTAMP:20190317T164820Z
DESCRIPTION:
X-ALT-DESC;FMTTYPE=text/html:
LAST-MODIFIED:20260308T115841Z
X-ACCESS:1
X-HITS:0
X-URL:
X-COLOR:ff0000
X-SHOW-END-TIME:1
END:VEVENT
BEGIN:VEVENT
DTSTART;TZID=Europe/Zurich:20260828T180000
DTEND;TZID=Europe/Zurich:20260828T190000
UID:F9566F97-7245-49CC-B6AF-F2FDF6DF6FA2
SUMMARY:300m Bundesprogramm / Obligatorisch
DTSTAMP:20190317T164820Z
DESCRIPTION:https://www.sat.admin.ch/search-shooting-days
X-ALT-DESC;FMTTYPE=text/html:<p><a href="https://www.sat.admin.ch/search-shooting-days">https://www.sat.admin.ch/search-shooting-days</a></p>
LAST-MODIFIED:20260308T103043Z
X-ACCESS:1
X-HITS:1
X-URL:
X-COLOR:ff0000
X-SHOW-END-TIME:1
END:VEVENT
BEGIN:VEVENT
DTSTART;TZID=Europe/Zurich:20260831T180000
DTEND;TZID=Europe/Zurich:20260831T200000
UID:DC6C1FBD-B483-4121-B582-41256EC6F007
SUMMARY:50m Gewehr Training
DTSTAMP:20190316T180153Z
DESCRIPTION:
X-ALT-DESC;FMTTYPE=text/html:
LAST-MODIFIED:20260308T114307Z
X-ACCESS:1
X-HITS:0
X-URL:
X-COLOR:f2ff00
X-SHOW-END-TIME:1
END:VEVENT
BEGIN:VEVENT
DTSTART;TZID=Europe/Zurich:20260902T180000
DTEND;TZID=Europe/Zurich:20260902T200000
UID:554291F4-23ED-4550-8073-6A7828A41F72
SUMMARY:300m Training
DTSTAMP:20190317T164820Z
DESCRIPTION:
X-ALT-DESC;FMTTYPE=text/html:
LAST-MODIFIED:20260308T114613Z
X-ACCESS:1
X-HITS:0
X-URL:
X-COLOR:ff0000
X-SHOW-END-TIME:1
END:VEVENT
BEGIN:VEVENT
DTSTART;TZID=Europe/Zurich:20260909T180000
DTEND;TZID=Europe/Zurich:20260909T200000
UID:EF77CC33-99C3-4C6C-9A49-CBAF46163D04
SUMMARY:300m Training
DTSTAMP:20190317T164820Z
DESCRIPTION:
X-ALT-DESC;FMTTYPE=text/html:
LAST-MODIFIED:20260308T114629Z
X-ACCESS:1
X-HITS:0
X-URL:
X-COLOR:ff0000
X-SHOW-END-TIME:1
END:VEVENT
BEGIN:VEVENT
DTSTART;TZID=Europe/Zurich:20260916T180000
DTEND;TZID=Europe/Zurich:20260916T200000
UID:D4878235-1B0B-44FD-864E-CD8C976C3D09
SUMMARY:300m Endschiessen
DTSTAMP:20190317T164820Z
DESCRIPTION:
X-ALT-DESC;FMTTYPE=text/html:
LAST-MODIFIED:20260308T115643Z
X-ACCESS:1
X-HITS:11
X-URL:
X-COLOR:ff0000
X-SHOW-END-TIME:1
END:VEVENT
BEGIN:VEVENT
DTSTART;TZID=Europe/Zurich:20260926T130000
DTEND;TZID=Europe/Zurich:20260926T170000
UID:C0B57B06-53FC-4E58-BBB8-A912FD97BB61
SUMMARY:300m Endschiessen mit JS
DTSTAMP:20190317T164820Z
DESCRIPTION:
X-ALT-DESC;FMTTYPE=text/html:
LAST-MODIFIED:20260308T115711Z
X-ACCESS:1
X-HITS:0
X-URL:
X-COLOR:ff0000
X-SHOW-END-TIME:1
END:VEVENT
BEGIN:VEVENT
DTSTART;TZID=Europe/Zurich:20260927T100000
DTEND;TZID=Europe/Zurich:20260927T113000
UID:DF972525-49F6-4958-8522-CBD6CB39418B
SUMMARY:300m Endschiessen
DTSTAMP:20190317T164820Z
DESCRIPTION:
X-ALT-DESC;FMTTYPE=text/html:
LAST-MODIFIED:20260308T115601Z
X-ACCESS:1
X-HITS:49
X-URL:
X-COLOR:ff0000
X-SHOW-END-TIME:1
END:VEVENT
BEGIN:VEVENT
DTSTART;TZID=Europe/Zurich:20261127T190000
DTEND;TZID=Europe/Zurich:20261127T223000
UID:A35714E5-BD0B-458F-949B-714A38024A1C
SUMMARY:Absenden
DTSTAMP:20190317T164820Z
DESCRIPTION:Restaurant Rössli Dietfurt
X-ALT-DESC;FMTTYPE=text/html:<p><span style="font-family: arial, helvetica, sans-serif; font-size: 10pt;">Restaurant Rössli Dietfurt</span></p>
LAST-MODIFIED:20260308T115539Z
X-ACCESS:1
X-HITS:0
X-URL:
X-COLOR:ff0000
X-SHOW-END-TIME:1
END:VEVENT
END:VCALENDAR